BEGIN:VCALENDAR
VERSION:2.0
PRODID:-//wp-events-plugin.com//7.2.3.1//EN
TZID:Europe/Berlin
X-WR-TIMEZONE:Europe/Berlin
BEGIN:VEVENT
UID:0-274@femref.uni-oldenburg.de
DTSTART;TZID=Europe/Berlin:20240515T150000
DTEND;TZID=Europe/Berlin:20240515T170000
DTSTAMP:20240424T080131Z
URL:https://femref.uni-oldenburg.de/landing/programm/events/eine-einfuehru
 ng-in-geschlechtsbestaerkende-produkte/
SUMMARY:Eine Einführung in geschlechtsbestärkende Produkte
DESCRIPTION:Binder\, Gaffs\, Packer? Wenn du bei diesen Begriffen ein Frage
 zeichen im Gesicht hast\, ist dieser Workshop vielleicht etwas für dich. 
 Tommy (keine Pronomen/dey) beschäftigt sich seit ca. 10 Jahren mit geschl
 echtsbestärkenden Produkten und bietet mit diesem Workshop eine Einführu
 ng in verschiedene Produkte und Hilfsmittel und informiert auch über ihre
  sichere Anwendung. Aber was ist das eigentlich? Geschlechtsbestärkende P
 rodukte sind Hilfsmittel\, die von Trans*\, Inter*\, Nichtbinären\, Agend
 er oder anderen Personen genutzt werden\, um ihr Geschlecht auszudrücken 
 und sich in ihrem Körper ein bisschen wohler zu fühlen.\n\nVor Ort könn
 en die vorgestellten Hilfsmittel auch anprobiert und ausgeliehen werden. W
 eitere Informationen zur Gender Care Box und den genauen Produkten findest
  du auf unserer Website unter: https://femref.uni-oldenburg.de/landing/ang
 ebote/gender-care-box/\n\nDer Workshop findet in deutscher Lautsprache sta
 tt und kann auf Anfrage auch auf Englisch übersetzt werden. Es handelt si
 ch hierbei um einen Einführungsworkshop und ist offen für alle Interress
 ierte.\n\nUm eine Anmeldung unter: femref@uol.de oder über das Kontaktfor
 mular wird gebeten\, da es eine begrenzte Anzahl an Teilnahmeplätzen gibt
 .
CATEGORIES:all_no_gender
END:VEVENT
BEGIN:VTIMEZONE
TZID:Europe/Berlin
X-LIC-LOCATION:Europe/Berlin
BEGIN:DAYLIGHT
DTSTART:20240331T030000
TZOFFSETFROM:+0100
TZOFFSETTO:+0200
TZNAME:CEST
END:DAYLIGHT
END:VTIMEZONE
END:VCALENDAR