BEGIN:VCALENDAR
VERSION:2.0
PRODID:-//wp-events-plugin.com//7.2.3.1//EN
TZID:Europe/Berlin
X-WR-TIMEZONE:Europe/Berlin
BEGIN:VEVENT
UID:0-11@femref.uni-oldenburg.de
DTSTART;TZID=Europe/Berlin:20231212T110000
DTEND;TZID=Europe/Berlin:20231212T160000
DTSTAMP:20231004T102814Z
URL:https://femref.uni-oldenburg.de/en/events/boundaries-desires-consent/
SUMMARY:Boundaries\, Desires & Consent
DESCRIPTION:with Ceci Ferox\n\nEverybody knows that consent is crucial and 
 boundaries should be respected\, but what does that ACTUALLY mean\, and ho
 w are we supposed to navigate them?\n\nIn this workshop we will dive deepe
 r into what these concepts mean specifically for you. We will explore the 
 physical and mental signs of boundaries\, and how to express ourself when 
 something is askew. We will practice recognizing our desires and asking fo
 r what we want and need. Our aim is to demystify consent and bring it to a
  level that feels easier to navigate in your sexuality and maybe also in e
 veryday life.The workshop includes lecture content\, solo exercises\, part
 nered exercises and sharing thoughts with the group. You will need paper a
 nd (preferably colorful) pens.\n\nThe workshop will be held in spoken engl
 ish and requires a registration for places in the workshop are limited!
ATTACH;FMTTYPE=image/jpeg:https://www.femref.uni-oldenburg.de/wp-content/u
 ploads/2023/09/Boundaries.png
CATEGORIES:FLINTA+
END:VEVENT
BEGIN:VTIMEZONE
TZID:Europe/Berlin
X-LIC-LOCATION:Europe/Berlin
BEGIN:STANDARD
DTSTART:20231029T020000
TZOFFSETFROM:+0200
TZOFFSETTO:+0100
TZNAME:CET
END:STANDARD
END:VTIMEZONE
END:VCALENDAR